BEGIN:VCALENDAR
VERSION:2.0
PRODID:-//Father&#039;s House Church International - ECPv6.15.20//NONSGML v1.0//EN
CALSCALE:GREGORIAN
METHOD:PUBLISH
X-ORIGINAL-URL:https://fhcsd.net
X-WR-CALDESC:Events for Father&#039;s House Church International
REFRESH-INTERVAL;VALUE=DURATION:PT1H
X-Robots-Tag:noindex
X-PUBLISHED-TTL:PT1H
BEGIN:VTIMEZONE
TZID:America/Los_Angeles
BEGIN:DAYLIGHT
TZOFFSETFROM:-0800
TZOFFSETTO:-0700
TZNAME:PDT
DTSTART:20240310T100000
END:DAYLIGHT
BEGIN:STANDARD
TZOFFSETFROM:-0700
TZOFFSETTO:-0800
TZNAME:PST
DTSTART:20241103T090000
END:STANDARD
BEGIN:DAYLIGHT
TZOFFSETFROM:-0800
TZOFFSETTO:-0700
TZNAME:PDT
DTSTART:20250309T100000
END:DAYLIGHT
BEGIN:STANDARD
TZOFFSETFROM:-0700
TZOFFSETTO:-0800
TZNAME:PST
DTSTART:20251102T090000
END:STANDARD
BEGIN:DAYLIGHT
TZOFFSETFROM:-0800
TZOFFSETTO:-0700
TZNAME:PDT
DTSTART:20260308T100000
END:DAYLIGHT
BEGIN:STANDARD
TZOFFSETFROM:-0700
TZOFFSETTO:-0800
TZNAME:PST
DTSTART:20261101T090000
END:STANDARD
END:VTIMEZONE
BEGIN:VEVENT
DTSTART;TZID=America/Los_Angeles:20250601T100000
DTEND;TZID=America/Los_Angeles:20250601T120000
DTSTAMP:20260421T084225
CREATED:20250515T012400Z
LAST-MODIFIED:20250515T012400Z
UID:10010020-1748772000-1748779200@fhcsd.net
SUMMARY:Special Music and Speaker
DESCRIPTION:Today we are blessed to have Andrew Hopkins come and lead us in worship and then share the Word with us.\nAndrew Hopkins
URL:https://fhcsd.net/event/special-music-and-speaker-2/
END:VEVENT
BEGIN:VEVENT
DTSTART;VALUE=DATE:20250526
DTEND;VALUE=DATE:20250527
DTSTAMP:20260421T084225
CREATED:20250516T172505Z
LAST-MODIFIED:20250516T172505Z
UID:10010022-1748217600-1748303999@fhcsd.net
SUMMARY:Memorial Day
DESCRIPTION:On this day\, we remember those gave the full measure of their lives.  We recall and honor them.
URL:https://fhcsd.net/event/memorial-day/
END:VEVENT
BEGIN:VEVENT
DTSTART;TZID=America/Los_Angeles:20250518T123000
DTEND;TZID=America/Los_Angeles:20250518T150000
DTSTAMP:20260421T084225
CREATED:20250417T185155Z
LAST-MODIFIED:20250417T185155Z
UID:10010014-1747571400-1747580400@fhcsd.net
SUMMARY:Movie Day
DESCRIPTION:After service we will be showing the movie\, “The Overcomer”\nHang around for some snacks and watch it together in the sanctuary. \nThank you Debbie for hosting this event.
URL:https://fhcsd.net/event/movie-day-4/
END:VEVENT
BEGIN:VEVENT
DTSTART;TZID=America/Los_Angeles:20250409T190000
DTEND;TZID=America/Los_Angeles:20250702T200000
DTSTAMP:20260421T084225
CREATED:20250327T161237Z
LAST-MODIFIED:20250327T161237Z
UID:10009738-1744225200-1751486400@fhcsd.net
SUMMARY:Wednesday Services
DESCRIPTION:Come get a booster shot of faith\, right in the middle of the week!\nUsually an hour service.
URL:https://fhcsd.net/event/wednesday-services/2025-04-09/
ATTACH;FMTTYPE=image/jpeg:https://fhcsd.net/wp-content/uploads/2025/03/Wednesday-Service.jpg
END:VEVENT
END:VCALENDAR