BEGIN:VCALENDAR
VERSION:2.0
PRODID:-//Father&#039;s House Church International - ECPv6.15.20//NONSGML v1.0//EN
CALSCALE:GREGORIAN
METHOD:PUBLISH
X-ORIGINAL-URL:https://fhcsd.net
X-WR-CALDESC:Events for Father&#039;s House Church International
REFRESH-INTERVAL;VALUE=DURATION:PT1H
X-Robots-Tag:noindex
X-PUBLISHED-TTL:PT1H
BEGIN:VTIMEZONE
TZID:America/Los_Angeles
BEGIN:DAYLIGHT
TZOFFSETFROM:-0800
TZOFFSETTO:-0700
TZNAME:PDT
DTSTART:20250309T100000
END:DAYLIGHT
BEGIN:STANDARD
TZOFFSETFROM:-0700
TZOFFSETTO:-0800
TZNAME:PST
DTSTART:20251102T090000
END:STANDARD
BEGIN:DAYLIGHT
TZOFFSETFROM:-0800
TZOFFSETTO:-0700
TZNAME:PDT
DTSTART:20260308T100000
END:DAYLIGHT
BEGIN:STANDARD
TZOFFSETFROM:-0700
TZOFFSETTO:-0800
TZNAME:PST
DTSTART:20261101T090000
END:STANDARD
BEGIN:DAYLIGHT
TZOFFSETFROM:-0800
TZOFFSETTO:-0700
TZNAME:PDT
DTSTART:20270314T100000
END:DAYLIGHT
BEGIN:STANDARD
TZOFFSETFROM:-0700
TZOFFSETTO:-0800
TZNAME:PST
DTSTART:20271107T090000
END:STANDARD
END:VTIMEZONE
BEGIN:VEVENT
DTSTART;VALUE=DATE:20260427
DTEND;VALUE=DATE:20260502
DTSTAMP:20260421T043456
CREATED:20260420T163106Z
LAST-MODIFIED:20260420T163106Z
UID:10010539-1777248000-1777679999@fhcsd.net
SUMMARY:Bible Reading
DESCRIPTION:Join us\, Monday through Friday to read one chapter a day. \nYou can join us on Facebook at fathershousesd\, follow along with us \nReading the Book of Jeremiah\nMonday\, April 27th\, Chapter 23\nTuesday\, April 28th\, Chapter 24\nWednesday\, April 29th\, Chapter 25\nThursday\, April 30th\, Chapter 26\nFriday\, May 1st\, Chapter 27
URL:https://fhcsd.net/event/bible-reading-16/
ATTACH;FMTTYPE=image/jpeg:https://fhcsd.net/wp-content/uploads/2026/01/Reading-The-Bible-1280.jpg
END:VEVENT
BEGIN:VEVENT
DTSTART;TZID=America/Los_Angeles:20260502T100000
DTEND;TZID=America/Los_Angeles:20260502T120000
DTSTAMP:20260421T043456
CREATED:20260420T163658Z
LAST-MODIFIED:20260420T163658Z
UID:10010540-1777716000-1777723200@fhcsd.net
SUMMARY:Ladies May Meeting - Speaker:  Dr. Vilma Everette
DESCRIPTION:Open to all ladies.
URL:https://fhcsd.net/event/ladies-may-meeting-speaker-dr-vilma-everette/
ATTACH;FMTTYPE=image/jpeg:https://fhcsd.net/wp-content/uploads/2025/12/Ladies-Meeting-1280.jpg
END:VEVENT
BEGIN:VEVENT
DTSTART;TZID=America/Los_Angeles:20260523T100000
DTEND;TZID=America/Los_Angeles:20260523T120000
DTSTAMP:20260421T043456
CREATED:20260420T192557Z
LAST-MODIFIED:20260420T192557Z
UID:10010541-1779530400-1779537600@fhcsd.net
SUMMARY:Men's Meeting - Special Speaker
DESCRIPTION:Leo Palmer will be our speaker.\nOpen to all men.\nApostle Dr. Leo Palmer Bio
URL:https://fhcsd.net/event/mens-meeting-special-speaker/
ATTACH;FMTTYPE=image/jpeg:https://fhcsd.net/wp-content/uploads/2026/04/Leo-Palmer-Mens-Meeting-1280.jpg
END:VEVENT
BEGIN:VEVENT
DTSTART;TZID=America/Los_Angeles:20260606T140000
DTEND;TZID=America/Los_Angeles:20260606T170000
DTSTAMP:20260421T043456
CREATED:20260420T193033Z
LAST-MODIFIED:20260420T193033Z
UID:10010542-1780754400-1780765200@fhcsd.net
SUMMARY:Men's Meeting - Special Speaker
DESCRIPTION:Special Speaker:  Dr. Don Hughes\nOpen to all men\nDr. Hughes Bio Pdf
URL:https://fhcsd.net/event/mens-meeting-special-speaker-2/
ATTACH;FMTTYPE=image/jpeg:https://fhcsd.net/wp-content/uploads/2026/04/Dr-Hughe-Mens-Meeting-1280.jpg
END:VEVENT
END:VCALENDAR