BEGIN:VCALENDAR
VERSION:2.0
PRODID:-//Father&#039;s House Church International - ECPv6.15.20//NONSGML v1.0//EN
CALSCALE:GREGORIAN
METHOD:PUBLISH
X-ORIGINAL-URL:https://fhcsd.net
X-WR-CALDESC:Events for Father&#039;s House Church International
REFRESH-INTERVAL;VALUE=DURATION:PT1H
X-Robots-Tag:noindex
X-PUBLISHED-TTL:PT1H
BEGIN:VTIMEZONE
TZID:America/Los_Angeles
BEGIN:DAYLIGHT
TZOFFSETFROM:-0800
TZOFFSETTO:-0700
TZNAME:PDT
DTSTART:20240310T100000
END:DAYLIGHT
BEGIN:STANDARD
TZOFFSETFROM:-0700
TZOFFSETTO:-0800
TZNAME:PST
DTSTART:20241103T090000
END:STANDARD
BEGIN:DAYLIGHT
TZOFFSETFROM:-0800
TZOFFSETTO:-0700
TZNAME:PDT
DTSTART:20250309T100000
END:DAYLIGHT
BEGIN:STANDARD
TZOFFSETFROM:-0700
TZOFFSETTO:-0800
TZNAME:PST
DTSTART:20251102T090000
END:STANDARD
BEGIN:DAYLIGHT
TZOFFSETFROM:-0800
TZOFFSETTO:-0700
TZNAME:PDT
DTSTART:20260308T100000
END:DAYLIGHT
BEGIN:STANDARD
TZOFFSETFROM:-0700
TZOFFSETTO:-0800
TZNAME:PST
DTSTART:20261101T090000
END:STANDARD
BEGIN:DAYLIGHT
TZOFFSETFROM:-0800
TZOFFSETTO:-0700
TZNAME:PDT
DTSTART:20270314T100000
END:DAYLIGHT
BEGIN:STANDARD
TZOFFSETFROM:-0700
TZOFFSETTO:-0800
TZNAME:PST
DTSTART:20271107T090000
END:STANDARD
END:VTIMEZONE
BEGIN:VEVENT
DTSTART;VALUE=DATE:20251229
DTEND;VALUE=DATE:20260103
DTSTAMP:20260421T100249
CREATED:20251229T031826Z
LAST-MODIFIED:20260102T051410Z
UID:10010139-1766966400-1767398399@fhcsd.net
SUMMARY:Bible Reading
DESCRIPTION:Follow us on Facebook at fathershousesd\nReading the Bible One Chapter Monday – Friday \nReading the Book of Isaiah\nMonday\, Dec 29\, Chapter 4\nTuesday\, Dec 30\, Chapter 5\nWednesday\, Dec 31\, Chapter 6\nThursday\, Jan 1\, Chapter 7 Happy New Year 2026\nFriday\, Jan 2\, Chapter 8
URL:https://fhcsd.net/event/bible-reading-31/
ATTACH;FMTTYPE=image/jpeg:https://fhcsd.net/wp-content/uploads/2026/01/Reading-The-Bible-1280.jpg
END:VEVENT
BEGIN:VEVENT
DTSTART;TZID=America/Los_Angeles:20260103T093000
DTEND;TZID=America/Los_Angeles:20260103T093000
DTSTAMP:20260421T100249
CREATED:20251229T032607Z
LAST-MODIFIED:20260102T051907Z
UID:10010191-1767432600-1767432600@fhcsd.net
SUMMARY:Ladies Meeting - Speaker:  Billie Alexander
DESCRIPTION:Open to all ladies.\nSpeaker: Billie Alexander\nThis Saturday\, we will be having a lunch fellowship. Please sign up or let us know you will be attending for a food count. Limited seating. Email at: office@fhcsd.net with how many will
URL:https://fhcsd.net/event/ladies-meeting-speaker-billie-alexander/
ATTACH;FMTTYPE=image/jpeg:https://fhcsd.net/wp-content/uploads/2025/12/Ladies-Meeting-1280.jpg
END:VEVENT
BEGIN:VEVENT
DTSTART;TZID=America/Los_Angeles:20260104T100000
DTEND;TZID=America/Los_Angeles:20260426T120000
DTSTAMP:20260421T100249
CREATED:20250126T033342Z
LAST-MODIFIED:20260122T011851Z
UID:10008274-1767520800-1777204800@fhcsd.net
SUMMARY:Kid's Ministry
DESCRIPTION:Every Sunday at 10 a.m.\nWe don’t just watch kids\, we teach them on their level the Word of God.\nWe worship\, we pray\, we have interactive learning\, we have fun and mostly learn about Jesus.\nNursery to 6th Grade…all welcome.\nLocated on the lower level\, please sign in your child.\nWe have security measures set in place for your peace of mind while you enjoy the church service.
URL:https://fhcsd.net/event/kids-ministry-2-2-2-3/2026-01-04/
ATTACH;FMTTYPE=image/jpeg:https://fhcsd.net/wp-content/uploads/2025/01/Kids-Church-1280.jpg
END:VEVENT
BEGIN:VEVENT
DTSTART;TZID=America/Los_Angeles:20260104T120000
DTEND;TZID=America/Los_Angeles:20260104T130000
DTSTAMP:20260421T100249
CREATED:20251229T033004Z
LAST-MODIFIED:20251229T033005Z
UID:10009367-1767528000-1767531600@fhcsd.net
SUMMARY:12 Baskets
DESCRIPTION:Open to all\, bring your own bags.\nIf you see the container open on the lower parking lot after service…come help yourself.\nEddie and Ramona Martinez\, leader.
URL:https://fhcsd.net/event/12-baskets-2/2026-01-04/
ATTACH;FMTTYPE=image/jpeg:https://fhcsd.net/wp-content/uploads/2024/12/12-Baskes-1280.jpg
END:VEVENT
BEGIN:VEVENT
DTSTART;VALUE=DATE:20260105
DTEND;VALUE=DATE:20260110
DTSTAMP:20260421T100249
CREATED:20260107T012736Z
LAST-MODIFIED:20260107T012736Z
UID:10010218-1767571200-1768003199@fhcsd.net
SUMMARY:Bible Reading
DESCRIPTION:Follow us on Facebook at fathershousesd\nReading the Bible One Chapter Monday – Friday \nReading the Book of Isaiah\nMonday\, Jan 5\, Chapter 9\nTuesday\, Jan 6\, Chapter 10\nWednesday\, Jan 7\, Chapter 11\nThursday\, Jan 8\, Chapter 12\nFriday\, Jan 9\, Chapter 13
URL:https://fhcsd.net/event/bible-reading/
ATTACH;FMTTYPE=image/jpeg:https://fhcsd.net/wp-content/uploads/2026/01/Reading-The-Bible-1280.jpg
END:VEVENT
BEGIN:VEVENT
DTSTART;TZID=America/Los_Angeles:20260105T190000
DTEND;TZID=America/Los_Angeles:20260105T210000
DTSTAMP:20260421T100249
CREATED:20251027T163125Z
LAST-MODIFIED:20260102T051724Z
UID:10010123-1767639600-1767646800@fhcsd.net
SUMMARY:Governed By God - For Men
DESCRIPTION:This group is using our facility as a meeting place. It’s free to all men. \nMission: create a safe and supportive space where men and speak openly about their mental health. \nBreak the stigma about seeking help and build strength through connection and support. \nDuret Gray is leader of this group. \nTrue People True Purpose founder is Mr. Charles McNeil and Devon Brown
URL:https://fhcsd.net/event/governed-by-god-for-men/
ATTACH;FMTTYPE=image/jpeg:https://fhcsd.net/wp-content/uploads/2025/10/Govered-By-God-1280.jpg
END:VEVENT
BEGIN:VEVENT
DTSTART;TZID=America/Los_Angeles:20260107T190000
DTEND;TZID=America/Los_Angeles:20260617T200000
DTSTAMP:20260421T100249
CREATED:20260102T052038Z
LAST-MODIFIED:20260102T052039Z
UID:10009754-1767812400-1781726400@fhcsd.net
SUMMARY:Wednesday Services
DESCRIPTION:Come get a booster shot of faith\, right in the middle of the week!\nUsually an hour service.
URL:https://fhcsd.net/event/wednesday-services-2-2/2026-01-07/
ATTACH;FMTTYPE=image/jpeg:https://fhcsd.net/wp-content/uploads/2025/03/Wednesday-Service.jpg
END:VEVENT
BEGIN:VEVENT
DTSTART;TZID=America/Los_Angeles:20260111T100000
DTEND;TZID=America/Los_Angeles:20260503T120000
DTSTAMP:20260421T100249
CREATED:20250126T033342Z
LAST-MODIFIED:20260122T011851Z
UID:10010227-1768125600-1777809600@fhcsd.net
SUMMARY:Kid's Ministry
DESCRIPTION:Every Sunday at 10 a.m.\nWe don’t just watch kids\, we teach them on their level the Word of God.\nWe worship\, we pray\, we have interactive learning\, we have fun and mostly learn about Jesus.\nNursery to 6th Grade…all welcome.\nLocated on the lower level\, please sign in your child.\nWe have security measures set in place for your peace of mind while you enjoy the church service.
URL:https://fhcsd.net/event/kids-ministry-2-2-2-3/2026-01-11/
ATTACH;FMTTYPE=image/jpeg:https://fhcsd.net/wp-content/uploads/2025/01/Kids-Church-1280.jpg
END:VEVENT
BEGIN:VEVENT
DTSTART;TZID=America/Los_Angeles:20260111T120000
DTEND;TZID=America/Los_Angeles:20260111T130000
DTSTAMP:20260421T100249
CREATED:20251229T033004Z
LAST-MODIFIED:20251229T033005Z
UID:10009368-1768132800-1768136400@fhcsd.net
SUMMARY:12 Baskets
DESCRIPTION:Open to all\, bring your own bags.\nIf you see the container open on the lower parking lot after service…come help yourself.\nEddie and Ramona Martinez\, leader.
URL:https://fhcsd.net/event/12-baskets-2/2026-01-11/
ATTACH;FMTTYPE=image/jpeg:https://fhcsd.net/wp-content/uploads/2024/12/12-Baskes-1280.jpg
END:VEVENT
BEGIN:VEVENT
DTSTART;VALUE=DATE:20260112
DTEND;VALUE=DATE:20260117
DTSTAMP:20260421T100249
CREATED:20260107T012921Z
LAST-MODIFIED:20260107T012921Z
UID:10010219-1768176000-1768607999@fhcsd.net
SUMMARY:Bible Reading
DESCRIPTION:Follow us on Facebook at fathershousesd\nReading the Bible One Chapter Monday – Friday \nReading the Book of Isaiah\nMonday\, Jan 12\, Chapter 14\nTuesday\, Jan 13\, Chapter 15\nWednesday\, Jan 14\, Chapter 16\nThursday\, Jan 15\, Chapter 17\nFriday\, Jan 16\, Chapter 18
URL:https://fhcsd.net/event/bible-reading-2/
ATTACH;FMTTYPE=image/jpeg:https://fhcsd.net/wp-content/uploads/2026/01/Reading-The-Bible-1280.jpg
END:VEVENT
BEGIN:VEVENT
DTSTART;TZID=America/Los_Angeles:20260114T190000
DTEND;TZID=America/Los_Angeles:20260624T200000
DTSTAMP:20260421T100249
CREATED:20260102T052038Z
LAST-MODIFIED:20260102T052039Z
UID:10009778-1768417200-1782331200@fhcsd.net
SUMMARY:Wednesday Services
DESCRIPTION:Come get a booster shot of faith\, right in the middle of the week!\nUsually an hour service.
URL:https://fhcsd.net/event/wednesday-services-2-2/2026-01-14/
ATTACH;FMTTYPE=image/jpeg:https://fhcsd.net/wp-content/uploads/2025/03/Wednesday-Service.jpg
END:VEVENT
BEGIN:VEVENT
DTSTART;TZID=America/Los_Angeles:20260118T093000
DTEND;TZID=America/Los_Angeles:20260118T120000
DTSTAMP:20260421T100249
CREATED:20250220T230902Z
LAST-MODIFIED:20250220T230902Z
UID:10009679-1768728600-1768737600@fhcsd.net
SUMMARY:The Salt and Light Council
DESCRIPTION:On the third Sundays of the month before church at 9:30 and after service.\nA table will be set up to keep people informed of issues in our state and nation that need our attention.\nPlease stop by and see what’s happening and how you can get involved.\nOne way to let your voice be heard in our government. \nLeaders:  Silvia Puentes and Nancy Price \nFor more Information about this ministry\, go to www.saltandlightcouncil.org
URL:https://fhcsd.net/event/the-salt-and-light-council/2026-01-18/
ATTACH;FMTTYPE=image/jpeg:https://fhcsd.net/wp-content/uploads/2025/02/Salt-Light-Council.jpg
END:VEVENT
BEGIN:VEVENT
DTSTART;TZID=America/Los_Angeles:20260118T100000
DTEND;TZID=America/Los_Angeles:20260510T120000
DTSTAMP:20260421T100249
CREATED:20250126T033342Z
LAST-MODIFIED:20260122T011851Z
UID:10010228-1768730400-1778414400@fhcsd.net
SUMMARY:Kid's Ministry
DESCRIPTION:Every Sunday at 10 a.m.\nWe don’t just watch kids\, we teach them on their level the Word of God.\nWe worship\, we pray\, we have interactive learning\, we have fun and mostly learn about Jesus.\nNursery to 6th Grade…all welcome.\nLocated on the lower level\, please sign in your child.\nWe have security measures set in place for your peace of mind while you enjoy the church service.
URL:https://fhcsd.net/event/kids-ministry-2-2-2-3/2026-01-18/
ATTACH;FMTTYPE=image/jpeg:https://fhcsd.net/wp-content/uploads/2025/01/Kids-Church-1280.jpg
END:VEVENT
BEGIN:VEVENT
DTSTART;TZID=America/Los_Angeles:20260118T120000
DTEND;TZID=America/Los_Angeles:20260118T130000
DTSTAMP:20260421T100249
CREATED:20251229T033004Z
LAST-MODIFIED:20251229T033005Z
UID:10009369-1768737600-1768741200@fhcsd.net
SUMMARY:12 Baskets
DESCRIPTION:Open to all\, bring your own bags.\nIf you see the container open on the lower parking lot after service…come help yourself.\nEddie and Ramona Martinez\, leader.
URL:https://fhcsd.net/event/12-baskets-2/2026-01-18/
ATTACH;FMTTYPE=image/jpeg:https://fhcsd.net/wp-content/uploads/2024/12/12-Baskes-1280.jpg
END:VEVENT
BEGIN:VEVENT
DTSTART;TZID=America/Los_Angeles:20260118T123000
DTEND;TZID=America/Los_Angeles:20260118T150000
DTSTAMP:20260421T100249
CREATED:20260107T194028Z
LAST-MODIFIED:20260107T194028Z
UID:10010221-1768739400-1768748400@fhcsd.net
SUMMARY:Made In The Image of God
DESCRIPTION:Free class\, open to all\, after Sunday service\, lower level.\nlunch is provided\nRSVP to Yvonne at 619 916-9357 or sign up at the info counter.
URL:https://fhcsd.net/event/made-in-the-image-of-god/
ATTACH;FMTTYPE=image/jpeg:https://fhcsd.net/wp-content/uploads/2026/01/Made-In-The-Image-1280.jpg
END:VEVENT
BEGIN:VEVENT
DTSTART;VALUE=DATE:20260119
DTEND;VALUE=DATE:20260124
DTSTAMP:20260421T100249
CREATED:20260119T174659Z
LAST-MODIFIED:20260119T174659Z
UID:10010223-1768780800-1769212799@fhcsd.net
SUMMARY:Bible Reading
DESCRIPTION:Follow us on Facebook at fathershousesd\nReading the Bible One Chapter Monday – Friday \nReading the Book of Isaiah\nMonday\, Jan 19\, Chapter 19\nTuesday\, Jan 20\, Chapter 20\nWednesday\, Jan 21\, Chapter 21\nThursday\, Jan 22\, Chapter 22\nFriday\, Jan 23\, Chapter 23
URL:https://fhcsd.net/event/bible-reading-3/
ATTACH;FMTTYPE=image/jpeg:https://fhcsd.net/wp-content/uploads/2026/01/Reading-The-Bible-1280.jpg
END:VEVENT
BEGIN:VEVENT
DTSTART;TZID=America/Los_Angeles:20260121T190000
DTEND;TZID=America/Los_Angeles:20260701T200000
DTSTAMP:20260421T100249
CREATED:20260102T052038Z
LAST-MODIFIED:20260102T052039Z
UID:10009779-1769022000-1782936000@fhcsd.net
SUMMARY:Wednesday Services
DESCRIPTION:Come get a booster shot of faith\, right in the middle of the week!\nUsually an hour service.
URL:https://fhcsd.net/event/wednesday-services-2-2/2026-01-21/
ATTACH;FMTTYPE=image/jpeg:https://fhcsd.net/wp-content/uploads/2025/03/Wednesday-Service.jpg
END:VEVENT
BEGIN:VEVENT
DTSTART;TZID=America/Los_Angeles:20260125T100000
DTEND;TZID=America/Los_Angeles:20260517T120000
DTSTAMP:20260421T100249
CREATED:20250126T033342Z
LAST-MODIFIED:20260122T011851Z
UID:10010229-1769335200-1779019200@fhcsd.net
SUMMARY:Kid's Ministry
DESCRIPTION:Every Sunday at 10 a.m.\nWe don’t just watch kids\, we teach them on their level the Word of God.\nWe worship\, we pray\, we have interactive learning\, we have fun and mostly learn about Jesus.\nNursery to 6th Grade…all welcome.\nLocated on the lower level\, please sign in your child.\nWe have security measures set in place for your peace of mind while you enjoy the church service.
URL:https://fhcsd.net/event/kids-ministry-2-2-2-3/2026-01-25/
ATTACH;FMTTYPE=image/jpeg:https://fhcsd.net/wp-content/uploads/2025/01/Kids-Church-1280.jpg
END:VEVENT
BEGIN:VEVENT
DTSTART;TZID=America/Los_Angeles:20260125T120000
DTEND;TZID=America/Los_Angeles:20260125T130000
DTSTAMP:20260421T100249
CREATED:20251229T033004Z
LAST-MODIFIED:20251229T033005Z
UID:10009370-1769342400-1769346000@fhcsd.net
SUMMARY:12 Baskets
DESCRIPTION:Open to all\, bring your own bags.\nIf you see the container open on the lower parking lot after service…come help yourself.\nEddie and Ramona Martinez\, leader.
URL:https://fhcsd.net/event/12-baskets-2/2026-01-25/
ATTACH;FMTTYPE=image/jpeg:https://fhcsd.net/wp-content/uploads/2024/12/12-Baskes-1280.jpg
END:VEVENT
BEGIN:VEVENT
DTSTART;VALUE=DATE:20260126
DTEND;VALUE=DATE:20260131
DTSTAMP:20260421T100249
CREATED:20260119T174900Z
LAST-MODIFIED:20260119T174900Z
UID:10010224-1769385600-1769817599@fhcsd.net
SUMMARY:Bible Reading
DESCRIPTION:Follow us on Facebook at fathershousesd\nReading the Bible One Chapter Monday – Friday \nReading the Book of Isaiah\nMonday\, Jan 26\, Chapter 24\nTuesday\, Jan 27\, Chapter 25\nWednesday\, Jan 28\, Chapter 26\nThursday\, Jan 29\, Chapter 27\nFriday\, Jan 30\, Chapter 28
URL:https://fhcsd.net/event/bible-reading-4/
ATTACH;FMTTYPE=image/jpeg:https://fhcsd.net/wp-content/uploads/2026/01/Reading-The-Bible-1280.jpg
END:VEVENT
BEGIN:VEVENT
DTSTART;TZID=America/Los_Angeles:20260128T190000
DTEND;TZID=America/Los_Angeles:20260708T200000
DTSTAMP:20260421T100249
CREATED:20260102T052038Z
LAST-MODIFIED:20260102T052039Z
UID:10009780-1769626800-1783540800@fhcsd.net
SUMMARY:Wednesday Services
DESCRIPTION:Come get a booster shot of faith\, right in the middle of the week!\nUsually an hour service.
URL:https://fhcsd.net/event/wednesday-services-2-2/2026-01-28/
ATTACH;FMTTYPE=image/jpeg:https://fhcsd.net/wp-content/uploads/2025/03/Wednesday-Service.jpg
END:VEVENT
END:VCALENDAR