BEGIN:VCALENDAR
VERSION:2.0
PRODID:-//Father&#039;s House Church International - ECPv6.15.20//NONSGML v1.0//EN
CALSCALE:GREGORIAN
METHOD:PUBLISH
X-WR-CALNAME:Father&#039;s House Church International
X-ORIGINAL-URL:https://fhcsd.net
X-WR-CALDESC:Events for Father&#039;s House Church International
REFRESH-INTERVAL;VALUE=DURATION:PT1H
X-Robots-Tag:noindex
X-PUBLISHED-TTL:PT1H
BEGIN:VTIMEZONE
TZID:America/Los_Angeles
BEGIN:DAYLIGHT
TZOFFSETFROM:-0800
TZOFFSETTO:-0700
TZNAME:PDT
DTSTART:20240310T100000
END:DAYLIGHT
BEGIN:STANDARD
TZOFFSETFROM:-0700
TZOFFSETTO:-0800
TZNAME:PST
DTSTART:20241103T090000
END:STANDARD
BEGIN:DAYLIGHT
TZOFFSETFROM:-0800
TZOFFSETTO:-0700
TZNAME:PDT
DTSTART:20250309T100000
END:DAYLIGHT
BEGIN:STANDARD
TZOFFSETFROM:-0700
TZOFFSETTO:-0800
TZNAME:PST
DTSTART:20251102T090000
END:STANDARD
BEGIN:DAYLIGHT
TZOFFSETFROM:-0800
TZOFFSETTO:-0700
TZNAME:PDT
DTSTART:20260308T100000
END:DAYLIGHT
BEGIN:STANDARD
TZOFFSETFROM:-0700
TZOFFSETTO:-0800
TZNAME:PST
DTSTART:20261101T090000
END:STANDARD
END:VTIMEZONE
BEGIN:VEVENT
DTSTART;TZID=America/Los_Angeles:20250709T190000
DTEND;TZID=America/Los_Angeles:20251217T200000
DTSTAMP:20260421T060041
CREATED:20250706T012743Z
LAST-MODIFIED:20250706T012744Z
UID:10009751-1752087600-1766001600@fhcsd.net
SUMMARY:Wednesday Services
DESCRIPTION:Come get a booster shot of faith\, right in the middle of the week!\nUsually an hour service.
URL:https://fhcsd.net/event/wednesday-services-2/2025-07-09/
ATTACH;FMTTYPE=image/jpeg:https://fhcsd.net/wp-content/uploads/2025/03/Wednesday-Service.jpg
END:VEVENT
BEGIN:VEVENT
DTSTART;TZID=America/Los_Angeles:20250716T190000
DTEND;TZID=America/Los_Angeles:20251224T200000
DTSTAMP:20260421T060041
CREATED:20250706T012743Z
LAST-MODIFIED:20250706T012744Z
UID:10009752-1752692400-1766606400@fhcsd.net
SUMMARY:Wednesday Services
DESCRIPTION:Come get a booster shot of faith\, right in the middle of the week!\nUsually an hour service.
URL:https://fhcsd.net/event/wednesday-services-2/2025-07-16/
ATTACH;FMTTYPE=image/jpeg:https://fhcsd.net/wp-content/uploads/2025/03/Wednesday-Service.jpg
END:VEVENT
BEGIN:VEVENT
DTSTART;TZID=America/Los_Angeles:20250723T190000
DTEND;TZID=America/Los_Angeles:20251231T200000
DTSTAMP:20260421T060041
CREATED:20250706T012743Z
LAST-MODIFIED:20250706T012744Z
UID:10009753-1753297200-1767211200@fhcsd.net
SUMMARY:Wednesday Services
DESCRIPTION:Come get a booster shot of faith\, right in the middle of the week!\nUsually an hour service.
URL:https://fhcsd.net/event/wednesday-services-2/2025-07-23/
ATTACH;FMTTYPE=image/jpeg:https://fhcsd.net/wp-content/uploads/2025/03/Wednesday-Service.jpg
END:VEVENT
BEGIN:VEVENT
DTSTART;TZID=America/Los_Angeles:20251004T093000
DTEND;TZID=America/Los_Angeles:20251004T120000
DTSTAMP:20260421T060041
CREATED:20250925T235549Z
LAST-MODIFIED:20250925T235549Z
UID:10010115-1759570200-1759579200@fhcsd.net
SUMMARY:Ladies Meeting
DESCRIPTION:Today our speaker will be Alane Haynes….open to men as well.\nPorch refreshments served at 9:30 a.m.\nMeeting begins at 10 a.m.\nChild care is available. \nMeet our speaker:\n \nAlane Haynes Bio
URL:https://fhcsd.net/event/ladies-meeting-2/
END:VEVENT
BEGIN:VEVENT
DTSTART;TZID=America/Los_Angeles:20251005T120000
DTEND;TZID=America/Los_Angeles:20251005T130000
DTSTAMP:20260421T060041
CREATED:20241230T223245Z
LAST-MODIFIED:20241230T223245Z
UID:10009354-1759665600-1759669200@fhcsd.net
SUMMARY:12 Baskets
DESCRIPTION:Open to all\, bring your own bags.\nIf you see the container open on the lower parking lot after service…come help yourself.\nEddie and Ramona Martinez\, leader.
URL:https://fhcsd.net/event/12-baskets/2025-10-05/
END:VEVENT
BEGIN:VEVENT
DTSTART;TZID=America/Los_Angeles:20251012T120000
DTEND;TZID=America/Los_Angeles:20251012T130000
DTSTAMP:20260421T060041
CREATED:20241230T223245Z
LAST-MODIFIED:20241230T223245Z
UID:10009355-1760270400-1760274000@fhcsd.net
SUMMARY:12 Baskets
DESCRIPTION:Open to all\, bring your own bags.\nIf you see the container open on the lower parking lot after service…come help yourself.\nEddie and Ramona Martinez\, leader.
URL:https://fhcsd.net/event/12-baskets/2025-10-12/
END:VEVENT
BEGIN:VEVENT
DTSTART;TZID=America/Los_Angeles:20251019T093000
DTEND;TZID=America/Los_Angeles:20251019T120000
DTSTAMP:20260421T060041
CREATED:20250220T230902Z
LAST-MODIFIED:20250220T230902Z
UID:10009676-1760866200-1760875200@fhcsd.net
SUMMARY:The Salt and Light Council
DESCRIPTION:On the third Sundays of the month before church at 9:30 and after service.\nA table will be set up to keep people informed of issues in our state and nation that need our attention.\nPlease stop by and see what’s happening and how you can get involved.\nOne way to let your voice be heard in our government. \nLeaders:  Silvia Puentes and Nancy Price \nFor more Information about this ministry\, go to www.saltandlightcouncil.org
URL:https://fhcsd.net/event/the-salt-and-light-council/2025-10-19/
ATTACH;FMTTYPE=image/jpeg:https://fhcsd.net/wp-content/uploads/2025/02/Salt-Light-Council.jpg
END:VEVENT
BEGIN:VEVENT
DTSTART;TZID=America/Los_Angeles:20251019T120000
DTEND;TZID=America/Los_Angeles:20251019T130000
DTSTAMP:20260421T060041
CREATED:20241230T223245Z
LAST-MODIFIED:20241230T223245Z
UID:10009356-1760875200-1760878800@fhcsd.net
SUMMARY:12 Baskets
DESCRIPTION:Open to all\, bring your own bags.\nIf you see the container open on the lower parking lot after service…come help yourself.\nEddie and Ramona Martinez\, leader.
URL:https://fhcsd.net/event/12-baskets/2025-10-19/
END:VEVENT
BEGIN:VEVENT
DTSTART;TZID=America/Los_Angeles:20251026T120000
DTEND;TZID=America/Los_Angeles:20251026T130000
DTSTAMP:20260421T060041
CREATED:20241230T223245Z
LAST-MODIFIED:20241230T223245Z
UID:10009357-1761480000-1761483600@fhcsd.net
SUMMARY:12 Baskets
DESCRIPTION:Open to all\, bring your own bags.\nIf you see the container open on the lower parking lot after service…come help yourself.\nEddie and Ramona Martinez\, leader.
URL:https://fhcsd.net/event/12-baskets/2025-10-26/
END:VEVENT
END:VCALENDAR