BEGIN:VCALENDAR
VERSION:2.0
PRODID:-//Father&#039;s House Church International - ECPv6.15.20//NONSGML v1.0//EN
CALSCALE:GREGORIAN
METHOD:PUBLISH
X-WR-CALNAME:Father&#039;s House Church International
X-ORIGINAL-URL:https://fhcsd.net
X-WR-CALDESC:Events for Father&#039;s House Church International
REFRESH-INTERVAL;VALUE=DURATION:PT1H
X-Robots-Tag:noindex
X-PUBLISHED-TTL:PT1H
BEGIN:VTIMEZONE
TZID:America/Los_Angeles
BEGIN:DAYLIGHT
TZOFFSETFROM:-0800
TZOFFSETTO:-0700
TZNAME:PDT
DTSTART:20240310T100000
END:DAYLIGHT
BEGIN:STANDARD
TZOFFSETFROM:-0700
TZOFFSETTO:-0800
TZNAME:PST
DTSTART:20241103T090000
END:STANDARD
BEGIN:DAYLIGHT
TZOFFSETFROM:-0800
TZOFFSETTO:-0700
TZNAME:PDT
DTSTART:20250309T100000
END:DAYLIGHT
BEGIN:STANDARD
TZOFFSETFROM:-0700
TZOFFSETTO:-0800
TZNAME:PST
DTSTART:20251102T090000
END:STANDARD
BEGIN:DAYLIGHT
TZOFFSETFROM:-0800
TZOFFSETTO:-0700
TZNAME:PDT
DTSTART:20260308T100000
END:DAYLIGHT
BEGIN:STANDARD
TZOFFSETFROM:-0700
TZOFFSETTO:-0800
TZNAME:PST
DTSTART:20261101T090000
END:STANDARD
END:VTIMEZONE
BEGIN:VEVENT
DTSTART;TZID=America/Los_Angeles:20250709T190000
DTEND;TZID=America/Los_Angeles:20251217T200000
DTSTAMP:20260421T030003
CREATED:20250706T012743Z
LAST-MODIFIED:20250706T012744Z
UID:10009751-1752087600-1766001600@fhcsd.net
SUMMARY:Wednesday Services
DESCRIPTION:Come get a booster shot of faith\, right in the middle of the week!\nUsually an hour service.
URL:https://fhcsd.net/event/wednesday-services-2/2025-07-09/
ATTACH;FMTTYPE=image/jpeg:https://fhcsd.net/wp-content/uploads/2025/03/Wednesday-Service.jpg
END:VEVENT
BEGIN:VEVENT
DTSTART;TZID=America/Los_Angeles:20250716T190000
DTEND;TZID=America/Los_Angeles:20251224T200000
DTSTAMP:20260421T030003
CREATED:20250706T012743Z
LAST-MODIFIED:20250706T012744Z
UID:10009752-1752692400-1766606400@fhcsd.net
SUMMARY:Wednesday Services
DESCRIPTION:Come get a booster shot of faith\, right in the middle of the week!\nUsually an hour service.
URL:https://fhcsd.net/event/wednesday-services-2/2025-07-16/
ATTACH;FMTTYPE=image/jpeg:https://fhcsd.net/wp-content/uploads/2025/03/Wednesday-Service.jpg
END:VEVENT
BEGIN:VEVENT
DTSTART;TZID=America/Los_Angeles:20250723T190000
DTEND;TZID=America/Los_Angeles:20251231T200000
DTSTAMP:20260421T030003
CREATED:20250706T012743Z
LAST-MODIFIED:20250706T012744Z
UID:10009753-1753297200-1767211200@fhcsd.net
SUMMARY:Wednesday Services
DESCRIPTION:Come get a booster shot of faith\, right in the middle of the week!\nUsually an hour service.
URL:https://fhcsd.net/event/wednesday-services-2/2025-07-23/
ATTACH;FMTTYPE=image/jpeg:https://fhcsd.net/wp-content/uploads/2025/03/Wednesday-Service.jpg
END:VEVENT
BEGIN:VEVENT
DTSTART;VALUE=DATE:20250901
DTEND;VALUE=DATE:20250902
DTSTAMP:20260421T030003
CREATED:20250825T192535Z
LAST-MODIFIED:20250825T192535Z
UID:10010109-1756684800-1756771199@fhcsd.net
SUMMARY:Labor Day
DESCRIPTION:Ah….time to relax or maybe tackle a project.  It’s your day\, enjoy it!
URL:https://fhcsd.net/event/labor-day-2/
END:VEVENT
BEGIN:VEVENT
DTSTART;TZID=America/Los_Angeles:20250906T093000
DTEND;TZID=America/Los_Angeles:20250906T120000
DTSTAMP:20260421T030003
CREATED:20250821T225424Z
LAST-MODIFIED:20250904T183215Z
UID:10010107-1757151000-1757160000@fhcsd.net
SUMMARY:Ladies September Meeting
DESCRIPTION:Begins with Porch Refreshments at 9:30 a.m.\nMeeting begins at 10:00 a.m.\nSpecial Speaker today is Polly Walshin\nPolly Walshin Bio
URL:https://fhcsd.net/event/ladies-september-meeting/
END:VEVENT
BEGIN:VEVENT
DTSTART;TZID=America/Los_Angeles:20250907T120000
DTEND;TZID=America/Los_Angeles:20250907T130000
DTSTAMP:20260421T030003
CREATED:20241230T223245Z
LAST-MODIFIED:20241230T223245Z
UID:10009350-1757246400-1757250000@fhcsd.net
SUMMARY:12 Baskets
DESCRIPTION:Open to all\, bring your own bags.\nIf you see the container open on the lower parking lot after service…come help yourself.\nEddie and Ramona Martinez\, leader.
URL:https://fhcsd.net/event/12-baskets/2025-09-07/
END:VEVENT
BEGIN:VEVENT
DTSTART;TZID=America/Los_Angeles:20250907T133000
DTEND;TZID=America/Los_Angeles:20250907T150000
DTSTAMP:20260421T030003
CREATED:20250710T213024Z
LAST-MODIFIED:20250906T232305Z
UID:10010061-1757251800-1757257200@fhcsd.net
SUMMARY:Water Baptism
DESCRIPTION:It will after the Sunday Service.\nLocation:  11868 Serena Road\, Lakeside\, CA. 92040 at the home of Charles & Sherrie Galloway \nSIGN UP at the Information Counter in the back of the sanctuary. \nBRING:\nTowels\, complete set of clean clothes and something dark to wear in the pool.  Ladies\, please no two swimsuits.
URL:https://fhcsd.net/event/water-baptism/
END:VEVENT
BEGIN:VEVENT
DTSTART;TZID=America/Los_Angeles:20250914T120000
DTEND;TZID=America/Los_Angeles:20250914T130000
DTSTAMP:20260421T030003
CREATED:20241230T223245Z
LAST-MODIFIED:20241230T223245Z
UID:10009351-1757851200-1757854800@fhcsd.net
SUMMARY:12 Baskets
DESCRIPTION:Open to all\, bring your own bags.\nIf you see the container open on the lower parking lot after service…come help yourself.\nEddie and Ramona Martinez\, leader.
URL:https://fhcsd.net/event/12-baskets/2025-09-14/
END:VEVENT
BEGIN:VEVENT
DTSTART;TZID=America/Los_Angeles:20250921T093000
DTEND;TZID=America/Los_Angeles:20250921T120000
DTSTAMP:20260421T030003
CREATED:20250220T230902Z
LAST-MODIFIED:20250220T230902Z
UID:10009675-1758447000-1758456000@fhcsd.net
SUMMARY:The Salt and Light Council
DESCRIPTION:On the third Sundays of the month before church at 9:30 and after service.\nA table will be set up to keep people informed of issues in our state and nation that need our attention.\nPlease stop by and see what’s happening and how you can get involved.\nOne way to let your voice be heard in our government. \nLeaders:  Silvia Puentes and Nancy Price \nFor more Information about this ministry\, go to www.saltandlightcouncil.org
URL:https://fhcsd.net/event/the-salt-and-light-council/2025-09-21/
ATTACH;FMTTYPE=image/jpeg:https://fhcsd.net/wp-content/uploads/2025/02/Salt-Light-Council.jpg
END:VEVENT
BEGIN:VEVENT
DTSTART;TZID=America/Los_Angeles:20250921T120000
DTEND;TZID=America/Los_Angeles:20250921T130000
DTSTAMP:20260421T030003
CREATED:20241230T223245Z
LAST-MODIFIED:20241230T223245Z
UID:10009352-1758456000-1758459600@fhcsd.net
SUMMARY:12 Baskets
DESCRIPTION:Open to all\, bring your own bags.\nIf you see the container open on the lower parking lot after service…come help yourself.\nEddie and Ramona Martinez\, leader.
URL:https://fhcsd.net/event/12-baskets/2025-09-21/
END:VEVENT
BEGIN:VEVENT
DTSTART;TZID=America/Los_Angeles:20250927T103000
DTEND;TZID=America/Los_Angeles:20250927T140000
DTSTAMP:20260421T030003
CREATED:20250918T232304Z
LAST-MODIFIED:20250927T133750Z
UID:10010114-1758969000-1758981600@fhcsd.net
SUMMARY:Memorial Service For Tina Cetrone
DESCRIPTION:Begins at 10:30 a.m. and food will be served afterwards.
URL:https://fhcsd.net/event/memorial-service-for-tina-cetrone/
END:VEVENT
BEGIN:VEVENT
DTSTART;TZID=America/Los_Angeles:20250928T120000
DTEND;TZID=America/Los_Angeles:20250928T130000
DTSTAMP:20260421T030003
CREATED:20241230T223245Z
LAST-MODIFIED:20241230T223245Z
UID:10009353-1759060800-1759064400@fhcsd.net
SUMMARY:12 Baskets
DESCRIPTION:Open to all\, bring your own bags.\nIf you see the container open on the lower parking lot after service…come help yourself.\nEddie and Ramona Martinez\, leader.
URL:https://fhcsd.net/event/12-baskets/2025-09-28/
END:VEVENT
END:VCALENDAR