BEGIN:VCALENDAR
VERSION:2.0
PRODID:-//Father&#039;s House Church International - ECPv6.15.20//NONSGML v1.0//EN
CALSCALE:GREGORIAN
METHOD:PUBLISH
X-ORIGINAL-URL:https://fhcsd.net
X-WR-CALDESC:Events for Father&#039;s House Church International
REFRESH-INTERVAL;VALUE=DURATION:PT1H
X-Robots-Tag:noindex
X-PUBLISHED-TTL:PT1H
BEGIN:VTIMEZONE
TZID:America/Los_Angeles
BEGIN:DAYLIGHT
TZOFFSETFROM:-0800
TZOFFSETTO:-0700
TZNAME:PDT
DTSTART:20240310T100000
END:DAYLIGHT
BEGIN:STANDARD
TZOFFSETFROM:-0700
TZOFFSETTO:-0800
TZNAME:PST
DTSTART:20241103T090000
END:STANDARD
BEGIN:DAYLIGHT
TZOFFSETFROM:-0800
TZOFFSETTO:-0700
TZNAME:PDT
DTSTART:20250309T100000
END:DAYLIGHT
BEGIN:STANDARD
TZOFFSETFROM:-0700
TZOFFSETTO:-0800
TZNAME:PST
DTSTART:20251102T090000
END:STANDARD
BEGIN:DAYLIGHT
TZOFFSETFROM:-0800
TZOFFSETTO:-0700
TZNAME:PDT
DTSTART:20260308T100000
END:DAYLIGHT
BEGIN:STANDARD
TZOFFSETFROM:-0700
TZOFFSETTO:-0800
TZNAME:PST
DTSTART:20261101T090000
END:STANDARD
END:VTIMEZONE
BEGIN:VEVENT
DTSTART;TZID=America/Los_Angeles:20250709T190000
DTEND;TZID=America/Los_Angeles:20251217T200000
DTSTAMP:20260421T011950
CREATED:20250706T012743Z
LAST-MODIFIED:20250706T012744Z
UID:10009751-1752087600-1766001600@fhcsd.net
SUMMARY:Wednesday Services
DESCRIPTION:Come get a booster shot of faith\, right in the middle of the week!\nUsually an hour service.
URL:https://fhcsd.net/event/wednesday-services-2/2025-07-09/
ATTACH;FMTTYPE=image/jpeg:https://fhcsd.net/wp-content/uploads/2025/03/Wednesday-Service.jpg
END:VEVENT
BEGIN:VEVENT
DTSTART;TZID=America/Los_Angeles:20250716T190000
DTEND;TZID=America/Los_Angeles:20251224T200000
DTSTAMP:20260421T011950
CREATED:20250706T012743Z
LAST-MODIFIED:20250706T012744Z
UID:10009752-1752692400-1766606400@fhcsd.net
SUMMARY:Wednesday Services
DESCRIPTION:Come get a booster shot of faith\, right in the middle of the week!\nUsually an hour service.
URL:https://fhcsd.net/event/wednesday-services-2/2025-07-16/
ATTACH;FMTTYPE=image/jpeg:https://fhcsd.net/wp-content/uploads/2025/03/Wednesday-Service.jpg
END:VEVENT
BEGIN:VEVENT
DTSTART;TZID=America/Los_Angeles:20250723T190000
DTEND;TZID=America/Los_Angeles:20251231T200000
DTSTAMP:20260421T011950
CREATED:20250706T012743Z
LAST-MODIFIED:20250706T012744Z
UID:10009753-1753297200-1767211200@fhcsd.net
SUMMARY:Wednesday Services
DESCRIPTION:Come get a booster shot of faith\, right in the middle of the week!\nUsually an hour service.
URL:https://fhcsd.net/event/wednesday-services-2/2025-07-23/
ATTACH;FMTTYPE=image/jpeg:https://fhcsd.net/wp-content/uploads/2025/03/Wednesday-Service.jpg
END:VEVENT
BEGIN:VEVENT
DTSTART;TZID=America/Los_Angeles:20250802T100000
DTEND;TZID=America/Los_Angeles:20250802T120000
DTSTAMP:20260421T011950
CREATED:20250710T212641Z
LAST-MODIFIED:20250710T212641Z
UID:10010060-1754128800-1754136000@fhcsd.net
SUMMARY:Ladies Meeting
DESCRIPTION:Guest Speaker this month:  Nitza Williamson \nOpen to all ladies\nPorch refreshments at 9:30 am\nMeeting begins at 10 am
URL:https://fhcsd.net/event/ladies-meeting/
END:VEVENT
BEGIN:VEVENT
DTSTART;TZID=America/Los_Angeles:20250803T120000
DTEND;TZID=America/Los_Angeles:20250803T130000
DTSTAMP:20260421T011950
CREATED:20241230T223245Z
LAST-MODIFIED:20241230T223245Z
UID:10009345-1754222400-1754226000@fhcsd.net
SUMMARY:12 Baskets
DESCRIPTION:Open to all\, bring your own bags.\nIf you see the container open on the lower parking lot after service…come help yourself.\nEddie and Ramona Martinez\, leader.
URL:https://fhcsd.net/event/12-baskets/2025-08-03/
END:VEVENT
BEGIN:VEVENT
DTSTART;TZID=America/Los_Angeles:20250809T093000
DTEND;TZID=America/Los_Angeles:20250809T160000
DTSTAMP:20260421T011950
CREATED:20250707T191452Z
LAST-MODIFIED:20250707T191452Z
UID:10010024-1754731800-1754755200@fhcsd.net
SUMMARY:San Diego Women's Aglow - Fire and Glory Training Event
DESCRIPTION:Speakers:  Pastor Vilma Everette and Georgia Hawkins \nBegins at 9:30 a.m. and goes til 4 p.m.\nLIMITED SEATING\nCost is $25 per person\, continental Breakfast included\, but not lunch.  Lunch will be from Noon to 1 p.m. \nContact:  Doris Corie at 760 912-1906 for any further information.\nSee attached flyer with more information:\nRSVP to Jeanne Develter by way of text to 951 294-8377 \nMake checks payable to Aglow International\, and mail to Jeanne Develter  30243 Carneros Circle\, Murrieta\, CA 92563\nAugust Conference
URL:https://fhcsd.net/event/san-diego-womens-aglow-fire-and-glory-training-event/
END:VEVENT
BEGIN:VEVENT
DTSTART;TZID=America/Los_Angeles:20250810T120000
DTEND;TZID=America/Los_Angeles:20250810T130000
DTSTAMP:20260421T011950
CREATED:20241230T223245Z
LAST-MODIFIED:20241230T223245Z
UID:10009346-1754827200-1754830800@fhcsd.net
SUMMARY:12 Baskets
DESCRIPTION:Open to all\, bring your own bags.\nIf you see the container open on the lower parking lot after service…come help yourself.\nEddie and Ramona Martinez\, leader.
URL:https://fhcsd.net/event/12-baskets/2025-08-10/
END:VEVENT
BEGIN:VEVENT
DTSTART;TZID=America/Los_Angeles:20250817T093000
DTEND;TZID=America/Los_Angeles:20250817T120000
DTSTAMP:20260421T011950
CREATED:20250220T230902Z
LAST-MODIFIED:20250220T230902Z
UID:10009674-1755423000-1755432000@fhcsd.net
SUMMARY:The Salt and Light Council
DESCRIPTION:On the third Sundays of the month before church at 9:30 and after service.\nA table will be set up to keep people informed of issues in our state and nation that need our attention.\nPlease stop by and see what’s happening and how you can get involved.\nOne way to let your voice be heard in our government. \nLeaders:  Silvia Puentes and Nancy Price \nFor more Information about this ministry\, go to www.saltandlightcouncil.org
URL:https://fhcsd.net/event/the-salt-and-light-council/2025-08-17/
ATTACH;FMTTYPE=image/jpeg:https://fhcsd.net/wp-content/uploads/2025/02/Salt-Light-Council.jpg
END:VEVENT
BEGIN:VEVENT
DTSTART;TZID=America/Los_Angeles:20250817T120000
DTEND;TZID=America/Los_Angeles:20250817T130000
DTSTAMP:20260421T011950
CREATED:20241230T223245Z
LAST-MODIFIED:20241230T223245Z
UID:10009347-1755432000-1755435600@fhcsd.net
SUMMARY:12 Baskets
DESCRIPTION:Open to all\, bring your own bags.\nIf you see the container open on the lower parking lot after service…come help yourself.\nEddie and Ramona Martinez\, leader.
URL:https://fhcsd.net/event/12-baskets/2025-08-17/
END:VEVENT
BEGIN:VEVENT
DTSTART;TZID=America/Los_Angeles:20250822T183000
DTEND;TZID=America/Los_Angeles:20250822T200000
DTSTAMP:20260421T011950
CREATED:20250731T233332Z
LAST-MODIFIED:20250731T233332Z
UID:10010104-1755887400-1755892800@fhcsd.net
SUMMARY:Young Adults – Hang Out
DESCRIPTION:Open to all 50 and under\nCome and hang out….snack/food to be served.\nGames…fellowship \nSign up for food and if interested in coming at the Info Counter.
URL:https://fhcsd.net/event/young-adults-hang-out/
ATTACH;FMTTYPE=image/jpeg:https://fhcsd.net/wp-content/uploads/2025/07/Young-Adults-1280.jpg
END:VEVENT
BEGIN:VEVENT
DTSTART;TZID=America/Los_Angeles:20250824T120000
DTEND;TZID=America/Los_Angeles:20250824T130000
DTSTAMP:20260421T011950
CREATED:20241230T223245Z
LAST-MODIFIED:20241230T223245Z
UID:10009348-1756036800-1756040400@fhcsd.net
SUMMARY:12 Baskets
DESCRIPTION:Open to all\, bring your own bags.\nIf you see the container open on the lower parking lot after service…come help yourself.\nEddie and Ramona Martinez\, leader.
URL:https://fhcsd.net/event/12-baskets/2025-08-24/
END:VEVENT
BEGIN:VEVENT
DTSTART;TZID=America/Los_Angeles:20250831T120000
DTEND;TZID=America/Los_Angeles:20250831T130000
DTSTAMP:20260421T011950
CREATED:20241230T223245Z
LAST-MODIFIED:20241230T223245Z
UID:10009349-1756641600-1756645200@fhcsd.net
SUMMARY:12 Baskets
DESCRIPTION:Open to all\, bring your own bags.\nIf you see the container open on the lower parking lot after service…come help yourself.\nEddie and Ramona Martinez\, leader.
URL:https://fhcsd.net/event/12-baskets/2025-08-31/
END:VEVENT
END:VCALENDAR